Package: DrugVsDisease Version: 2.49.0 Command: E:\biocbuild\bbs-3.21-bioc\R\bin\R.exe CMD INSTALL DrugVsDisease StartedAt: 2025-02-09 16:12:04 -0500 (Sun, 09 Feb 2025) EndedAt: 2025-02-09 16:12:48 -0500 (Sun, 09 Feb 2025) EllapsedTime: 44.8 seconds RetCode: 0 Status: OK