Package: EBSeq Version: 2.5.2 Maintainer: Xiuyu Ma MaintainerEmail: watsonforfun at gmail.com git_url: https://git.bioconductor.org/packages/EBSeq git_branch: devel git_last_commit: e80d996 git_last_commit_date: 2025-01-28 04:53:12 -0500 (Tue, 28 Jan 2025)