Package: EBSeq Version: 2.5.2 Command: rm -rf EBSeq.buildbin-libdir && mkdir EBSeq.buildbin-libdir && /Users/biocbuild/BBS/utils/build-universal.sh EBSeq_2.5.2.tar.gz /Library/Frameworks/R.framework/Resources/bin/R EBSeq.buildbin-libdir StartedAt: 2025-02-09 22:13:07 -0500 (Sun, 09 Feb 2025) EndedAt: 2025-02-09 22:13:17 -0500 (Sun, 09 Feb 2025) EllapsedTime: 10.2 seconds RetCode: 0 Status: OK PackageFile: EBSeq_2.5.2.tgz PackageFileSize: 1.17 MiB