Package: EBSeq Version: 2.5.2 Command: /Library/Frameworks/R.framework/Resources/bin/R CMD build --keep-empty-dirs --no-resave-data EBSeq StartedAt: 2025-02-12 16:13:14 -0500 (Wed, 12 Feb 2025) EndedAt: 2025-02-12 16:13:15 -0500 (Wed, 12 Feb 2025) EllapsedTime: 1.0 seconds RetCode: 0 Status: OK PackageFile: EBSeq_2.5.2.tar.gz PackageFileSize: 1.07 MiB