Package: EBSeq Version: 2.5.2 Command: /Library/Frameworks/R.framework/Resources/bin/R CMD INSTALL EBSeq StartedAt: 2025-02-09 15:29:02 -0500 (Sun, 09 Feb 2025) EndedAt: 2025-02-09 15:29:36 -0500 (Sun, 09 Feb 2025) EllapsedTime: 33.9 seconds RetCode: 0 Status: OK