Package: EBSeq Version: 2.5.2 Command: /home/biocbuild/bbs-3.21-bioc/R/bin/R CMD INSTALL EBSeq StartedAt: 2025-02-12 15:10:53 -0500 (Wed, 12 Feb 2025) EndedAt: 2025-02-12 15:11:32 -0500 (Wed, 12 Feb 2025) EllapsedTime: 39.0 seconds RetCode: 0 Status: OK