Package: EDASeq Version: 2.41.0 Command: rm -rf EDASeq.buildbin-libdir && mkdir EDASeq.buildbin-libdir && /Users/biocbuild/BBS/utils/build-universal.sh EDASeq_2.41.0.tar.gz /Library/Frameworks/R.framework/Resources/bin/R EDASeq.buildbin-libdir StartedAt: 2025-02-09 22:13:08 -0500 (Sun, 09 Feb 2025) EndedAt: 2025-02-09 22:13:27 -0500 (Sun, 09 Feb 2025) EllapsedTime: 19.4 seconds RetCode: 0 Status: OK PackageFile: EDASeq_2.41.0.tgz PackageFileSize: 1.331 MiB