Package: EDASeq Version: 2.41.0 Command: /Library/Frameworks/R.framework/Resources/bin/R CMD build --keep-empty-dirs --no-resave-data EDASeq StartedAt: 2025-02-09 16:12:54 -0500 (Sun, 09 Feb 2025) EndedAt: 2025-02-09 16:13:24 -0500 (Sun, 09 Feb 2025) EllapsedTime: 30.3 seconds RetCode: 0 Status: OK PackageFile: EDASeq_2.41.0.tar.gz PackageFileSize: 1.086 MiB