Package: EDASeq Version: 2.41.0 Command: /Library/Frameworks/R.framework/Resources/bin/R CMD check --install=check:EDASeq.install-out.txt --library=/Library/Frameworks/R.framework/Resources/library --no-vignettes --timings EDASeq_2.41.0.tar.gz StartedAt: 2025-02-09 19:04:06 -0500 (Sun, 09 Feb 2025) EndedAt: 2025-02-09 19:05:55 -0500 (Sun, 09 Feb 2025) EllapsedTime: 109.3 seconds RetCode: 0 Status: OK CheckDir: EDASeq.Rcheck Warnings: 0