Package: EDASeq Version: 2.41.0 Command: /Library/Frameworks/R.framework/Resources/bin/R CMD INSTALL EDASeq StartedAt: 2025-02-09 15:13:23 -0500 (Sun, 09 Feb 2025) EndedAt: 2025-02-09 15:13:41 -0500 (Sun, 09 Feb 2025) EllapsedTime: 17.7 seconds RetCode: 0 Status: OK