Package: EDASeq Version: 2.41.0 Command: /home/biocbuild/R/R/bin/R CMD INSTALL EDASeq StartedAt: 2025-01-29 20:01:44 -0000 (Wed, 29 Jan 2025) EndedAt: 2025-01-29 20:02:41 -0000 (Wed, 29 Jan 2025) EllapsedTime: 57.7 seconds RetCode: 0 Status: OK