Package: EDASeq Version: 2.41.0 Command: rm -rf EDASeq.buildbin-libdir && mkdir EDASeq.buildbin-libdir && E:\biocbuild\bbs-3.21-bioc\R\bin\R.exe CMD INSTALL --build --library=EDASeq.buildbin-libdir EDASeq_2.41.0.tar.gz StartedAt: 2025-02-10 07:40:28 -0500 (Mon, 10 Feb 2025) EndedAt: 2025-02-10 07:42:03 -0500 (Mon, 10 Feb 2025) EllapsedTime: 95.7 seconds RetCode: 0 Status: OK PackageFile: EDASeq_2.41.0.zip PackageFileSize: 821.2 KiB