Package: EDASeq Version: 2.41.0 Command: chmod a+r EDASeq -R && E:\biocbuild\bbs-3.21-bioc\R\bin\R.exe CMD build --keep-empty-dirs --no-resave-data EDASeq StartedAt: 2025-02-09 18:30:13 -0500 (Sun, 09 Feb 2025) EndedAt: 2025-02-09 18:31:55 -0500 (Sun, 09 Feb 2025) EllapsedTime: 101.6 seconds RetCode: 0 Status: OK PackageFile: EDASeq_2.41.0.tar.gz PackageFileSize: 569.8 KiB