Package: EDASeq Version: 2.41.0 Command: E:\biocbuild\bbs-3.21-bioc\R\bin\R.exe CMD INSTALL EDASeq StartedAt: 2025-02-09 16:52:06 -0500 (Sun, 09 Feb 2025) EndedAt: 2025-02-09 16:53:15 -0500 (Sun, 09 Feb 2025) EllapsedTime: 68.1 seconds RetCode: 0 Status: OK