Package: EDIRquery Version: 1.7.0 Command: /Library/Frameworks/R.framework/Resources/bin/R CMD build --keep-empty-dirs --no-resave-data EDIRquery StartedAt: 2025-02-12 16:13:33 -0500 (Wed, 12 Feb 2025) EndedAt: 2025-02-12 16:13:50 -0500 (Wed, 12 Feb 2025) EllapsedTime: 17.2 seconds RetCode: 0 Status: OK PackageFile: EDIRquery_1.7.0.tar.gz PackageFileSize: 1.376 MiB