Package: EDIRquery Version: 1.7.0 Command: /home/biocbuild/bbs-3.21-bioc/R/bin/R CMD build --keep-empty-dirs --no-resave-data EDIRquery StartedAt: 2025-02-09 17:06:25 -0500 (Sun, 09 Feb 2025) EndedAt: 2025-02-09 17:07:04 -0500 (Sun, 09 Feb 2025) EllapsedTime: 39.1 seconds RetCode: 0 Status: OK PackageFile: EDIRquery_1.7.0.tar.gz PackageFileSize: 1.376 MiB