Package: EGAD Version: 1.35.0 Command: rm -rf EGAD.buildbin-libdir && mkdir EGAD.buildbin-libdir && /Users/biocbuild/BBS/utils/build-universal.sh EGAD_1.35.0.tar.gz /Library/Frameworks/R.framework/Resources/bin/R EGAD.buildbin-libdir StartedAt: 2025-02-09 22:13:15 -0500 (Sun, 09 Feb 2025) EndedAt: 2025-02-09 22:13:31 -0500 (Sun, 09 Feb 2025) EllapsedTime: 16.3 seconds RetCode: 0 Status: OK PackageFile: EGAD_1.35.0.tgz PackageFileSize: 35.67 MiB