Package: EGAD Version: 1.35.0 Command: /Library/Frameworks/R.framework/Resources/bin/R CMD build --keep-empty-dirs --no-resave-data EGAD StartedAt: 2025-02-09 16:13:14 -0500 (Sun, 09 Feb 2025) EndedAt: 2025-02-09 16:13:15 -0500 (Sun, 09 Feb 2025) EllapsedTime: 1.0 seconds RetCode: 0 Status: OK PackageFile: EGAD_1.35.0.tar.gz PackageFileSize: 14.57 MiB