Package: EGAD Version: 1.35.0 Command: /Library/Frameworks/R.framework/Resources/bin/R CMD check --install=check:EGAD.install-out.txt --library=/Library/Frameworks/R.framework/Resources/library --no-vignettes --timings EGAD_1.35.0.tar.gz StartedAt: 2025-02-09 19:04:20 -0500 (Sun, 09 Feb 2025) EndedAt: 2025-02-09 19:05:36 -0500 (Sun, 09 Feb 2025) EllapsedTime: 75.9 seconds RetCode: 0 Status: WARNINGS CheckDir: EGAD.Rcheck Warnings: 1