Package: EGAD Version: 1.35.0 Command: /home/biocbuild/R/R/bin/R CMD INSTALL EGAD StartedAt: 2025-01-29 20:14:57 -0000 (Wed, 29 Jan 2025) EndedAt: 2025-01-29 20:15:47 -0000 (Wed, 29 Jan 2025) EllapsedTime: 50.5 seconds RetCode: 0 Status: OK