Package: EGAD Version: 1.35.0 Command: rm -rf EGAD.buildbin-libdir && mkdir EGAD.buildbin-libdir && /Users/biocbuild/BBS/utils/build-universal.sh EGAD_1.35.0.tar.gz /Library/Frameworks/R.framework/Resources/bin/R EGAD.buildbin-libdir StartedAt: 2025-02-04 00:32:40 -0500 (Tue, 04 Feb 2025) EndedAt: 2025-02-04 00:33:29 -0500 (Tue, 04 Feb 2025) EllapsedTime: 49.7 seconds RetCode: 0 Status: OK PackageFile: EGAD_1.35.0.tgz PackageFileSize: 35.67 MiB