Package: EGAD Version: 1.35.0 Command: /Library/Frameworks/R.framework/Resources/bin/R CMD INSTALL EGAD StartedAt: 2025-02-03 15:35:40 -0500 (Mon, 03 Feb 2025) EndedAt: 2025-02-03 15:36:25 -0500 (Mon, 03 Feb 2025) EllapsedTime: 44.6 seconds RetCode: 0 Status: OK