Package: EGAD Version: 1.35.0 Command: /home/biocbuild/bbs-3.21-bioc/R/bin/R CMD INSTALL EGAD StartedAt: 2025-02-03 15:41:40 -0500 (Mon, 03 Feb 2025) EndedAt: 2025-02-03 15:42:13 -0500 (Mon, 03 Feb 2025) EllapsedTime: 32.6 seconds RetCode: 0 Status: OK