Package: EGAD Version: 1.35.0 Command: rm -rf EGAD.buildbin-libdir && mkdir EGAD.buildbin-libdir && E:\biocbuild\bbs-3.21-bioc\R\bin\R.exe CMD INSTALL --build --library=EGAD.buildbin-libdir EGAD_1.35.0.tar.gz StartedAt: 2025-02-04 07:54:27 -0500 (Tue, 04 Feb 2025) EndedAt: 2025-02-04 07:55:39 -0500 (Tue, 04 Feb 2025) EllapsedTime: 72.3 seconds RetCode: 0 Status: OK PackageFile: EGAD_1.35.0.zip PackageFileSize: 35.64 MiB