Package: EGAD Version: 1.35.0 Command: E:\biocbuild\bbs-3.21-bioc\R\bin\R.exe CMD INSTALL EGAD StartedAt: 2025-02-09 16:55:49 -0500 (Sun, 09 Feb 2025) EndedAt: 2025-02-09 16:56:42 -0500 (Sun, 09 Feb 2025) EllapsedTime: 52.6 seconds RetCode: 0 Status: OK