Package: EGSEA Version: 1.35.0 Command: /Library/Frameworks/R.framework/Resources/bin/R CMD build --keep-empty-dirs --no-resave-data EGSEA StartedAt: 2025-02-12 16:13:44 -0500 (Wed, 12 Feb 2025) EndedAt: 2025-02-12 16:15:37 -0500 (Wed, 12 Feb 2025) EllapsedTime: 113.2 seconds RetCode: 0 Status: OK PackageFile: EGSEA_1.35.0.tar.gz PackageFileSize: 2.088 MiB