Package: EGSEA Version: 1.35.0 Command: /Library/Frameworks/R.framework/Resources/bin/R CMD check --install=check:EGSEA.install-out.txt --library=/Library/Frameworks/R.framework/Resources/library --no-vignettes --timings EGSEA_1.35.0.tar.gz StartedAt: 2025-02-09 19:04:20 -0500 (Sun, 09 Feb 2025) EndedAt: 2025-02-09 19:07:41 -0500 (Sun, 09 Feb 2025) EllapsedTime: 200.3 seconds RetCode: 0 Status: OK CheckDir: EGSEA.Rcheck Warnings: 0