Package: EGSEA Version: 1.35.0 Command: /home/biocbuild/bbs-3.21-bioc/R/bin/R CMD build --keep-empty-dirs --no-resave-data EGSEA StartedAt: 2025-02-04 17:04:38 -0500 (Tue, 04 Feb 2025) EndedAt: 2025-02-04 17:08:38 -0500 (Tue, 04 Feb 2025) EllapsedTime: 240.3 seconds RetCode: 0 Status: OK PackageFile: EGSEA_1.35.0.tar.gz PackageFileSize: 2.116 MiB