Package: EGSEA Version: 1.35.0 Command: /home/biocbuild/bbs-3.21-bioc/R/bin/R CMD check --install=check:EGSEA.install-out.txt --library=/home/biocbuild/bbs-3.21-bioc/R/site-library --timings EGSEA_1.35.0.tar.gz StartedAt: 2025-02-04 21:59:36 -0500 (Tue, 04 Feb 2025) EndedAt: 2025-02-04 22:12:03 -0500 (Tue, 04 Feb 2025) EllapsedTime: 747.0 seconds RetCode: 0 Status: OK CheckDir: EGSEA.Rcheck Warnings: 0