Package: ELMER Version: 2.31.0 Command: rm -rf ELMER.buildbin-libdir && mkdir ELMER.buildbin-libdir && /Users/biocbuild/BBS/utils/build-universal.sh ELMER_2.31.0.tar.gz /Library/Frameworks/R.framework/Resources/bin/R ELMER.buildbin-libdir StartedAt: 2025-02-09 22:13:17 -0500 (Sun, 09 Feb 2025) EndedAt: 2025-02-09 22:13:46 -0500 (Sun, 09 Feb 2025) EllapsedTime: 29.6 seconds RetCode: 0 Status: OK PackageFile: ELMER_2.31.0.tgz PackageFileSize: 41.16 MiB