Package: ELMER Version: 2.31.0 Command: /Library/Frameworks/R.framework/Resources/bin/R CMD check --install=check:ELMER.install-out.txt --library=/Library/Frameworks/R.framework/Resources/library --no-vignettes --timings ELMER_2.31.0.tar.gz StartedAt: 2025-02-09 19:04:36 -0500 (Sun, 09 Feb 2025) EndedAt: 2025-02-09 19:10:31 -0500 (Sun, 09 Feb 2025) EllapsedTime: 354.1 seconds RetCode: 0 Status: OK CheckDir: ELMER.Rcheck Warnings: 0