Package: ELMER Version: 2.31.0 Command: /Library/Frameworks/R.framework/Resources/bin/R CMD INSTALL ELMER StartedAt: 2025-02-12 15:27:51 -0500 (Wed, 12 Feb 2025) EndedAt: 2025-02-12 15:28:13 -0500 (Wed, 12 Feb 2025) EllapsedTime: 22.6 seconds RetCode: 0 Status: OK