Package: ELMER Version: 2.31.0 Command: /home/biocbuild/R/R/bin/R CMD build --keep-empty-dirs --no-resave-data ELMER StartedAt: 2025-01-28 22:39:36 -0000 (Tue, 28 Jan 2025) EndedAt: 2025-01-28 22:52:03 -0000 (Tue, 28 Jan 2025) EllapsedTime: 747.3 seconds RetCode: 0 Status: OK PackageFile: ELMER_2.31.0.tar.gz PackageFileSize: 44.55 MiB