Package: ELMER Version: 2.31.0 Command: /home/biocbuild/bbs-3.21-bioc/R/bin/R CMD build --keep-empty-dirs --no-resave-data ELMER StartedAt: 2025-02-12 17:03:36 -0500 (Wed, 12 Feb 2025) EndedAt: 2025-02-12 17:09:37 -0500 (Wed, 12 Feb 2025) EllapsedTime: 360.5 seconds RetCode: 0 Status: OK PackageFile: ELMER_2.31.0.tar.gz PackageFileSize: 43.57 MiB