Package: ELMER Version: 2.31.0 Command: /home/biocbuild/bbs-3.21-bioc/R/bin/R CMD check --install=check:ELMER.install-out.txt --library=/home/biocbuild/bbs-3.21-bioc/R/site-library --timings ELMER_2.31.0.tar.gz StartedAt: 2025-02-09 22:00:49 -0500 (Sun, 09 Feb 2025) EndedAt: 2025-02-09 22:25:34 -0500 (Sun, 09 Feb 2025) EllapsedTime: 1485.1 seconds RetCode: 0 Status: OK CheckDir: ELMER.Rcheck Warnings: 0