Package: ELMER Version: 2.31.0 Command: chmod a+r ELMER -R && E:\biocbuild\bbs-3.21-bioc\R\bin\R.exe CMD build --keep-empty-dirs --no-resave-data ELMER StartedAt: 2025-02-12 18:34:52 -0500 (Wed, 12 Feb 2025) EndedAt: 2025-02-12 18:42:28 -0500 (Wed, 12 Feb 2025) EllapsedTime: 456.8 seconds RetCode: 0 Status: OK PackageFile: ELMER_2.31.0.tar.gz PackageFileSize: 42.8 MiB