Package: ELMER Version: 2.31.0 Command: E:\biocbuild\bbs-3.21-bioc\R\bin\R.exe CMD check --no-multiarch --install=check:ELMER.install-out.txt --library=E:\biocbuild\bbs-3.21-bioc\R\library --no-vignettes --timings ELMER_2.31.0.tar.gz StartedAt: 2025-02-13 00:58:06 -0500 (Thu, 13 Feb 2025) EndedAt: 2025-02-13 01:16:08 -0500 (Thu, 13 Feb 2025) EllapsedTime: 1082.1 seconds RetCode: 0 Status: OK CheckDir: ELMER.Rcheck Warnings: 0