Package: EMDomics Version: 2.37.0 Command: /Library/Frameworks/R.framework/Resources/bin/R CMD INSTALL EMDomics StartedAt: 2025-02-12 15:08:40 -0500 (Wed, 12 Feb 2025) EndedAt: 2025-02-12 15:08:43 -0500 (Wed, 12 Feb 2025) EllapsedTime: 2.4 seconds RetCode: 0 Status: OK