Package: EMDomics Version: 2.37.0 Command: /Library/Frameworks/R.framework/Resources/bin/R CMD check --install=check:EMDomics.install-out.txt --library=/Library/Frameworks/R.framework/Resources/library --no-vignettes --timings EMDomics_2.37.0.tar.gz StartedAt: 2025-02-12 20:18:45 -0500 (Wed, 12 Feb 2025) EndedAt: 2025-02-12 20:20:10 -0500 (Wed, 12 Feb 2025) EllapsedTime: 84.7 seconds RetCode: 0 Status: OK CheckDir: EMDomics.Rcheck Warnings: 0