Package: ENmix Version: 1.43.2 Command: /Library/Frameworks/R.framework/Resources/bin/R CMD check --install=check:ENmix.install-out.txt --library=/Library/Frameworks/R.framework/Resources/library --no-vignettes --timings ENmix_1.43.2.tar.gz StartedAt: 2025-02-12 19:09:09 -0500 (Wed, 12 Feb 2025) EndedAt: 2025-02-12 19:11:19 -0500 (Wed, 12 Feb 2025) EllapsedTime: 129.5 seconds RetCode: 0 Status: OK CheckDir: ENmix.Rcheck Warnings: 0