Package: ENmix Version: 1.43.2 Command: /Library/Frameworks/R.framework/Resources/bin/R CMD INSTALL ENmix StartedAt: 2025-02-09 15:27:23 -0500 (Sun, 09 Feb 2025) EndedAt: 2025-02-09 15:27:43 -0500 (Sun, 09 Feb 2025) EllapsedTime: 20.6 seconds RetCode: 0 Status: OK