Package: ENmix Version: 1.43.2 Command: /Library/Frameworks/R.framework/Resources/bin/R CMD build --keep-empty-dirs --no-resave-data ENmix StartedAt: 2025-02-12 16:37:24 -0500 (Wed, 12 Feb 2025) EndedAt: 2025-02-12 16:38:29 -0500 (Wed, 12 Feb 2025) EllapsedTime: 65.2 seconds RetCode: 0 Status: OK PackageFile: ENmix_1.43.2.tar.gz PackageFileSize: 20.02 MiB