Package: ENmix Version: 1.43.2 Command: /Library/Frameworks/R.framework/Resources/bin/R CMD check --install=check:ENmix.install-out.txt --library=/Library/Frameworks/R.framework/Resources/library --no-vignettes --timings ENmix_1.43.2.tar.gz StartedAt: 2025-02-09 20:30:34 -0500 (Sun, 09 Feb 2025) EndedAt: 2025-02-09 20:37:01 -0500 (Sun, 09 Feb 2025) EllapsedTime: 386.9 seconds RetCode: 0 Status: OK CheckDir: ENmix.Rcheck Warnings: 0