Package: ENmix Version: 1.43.2 Command: /Library/Frameworks/R.framework/Resources/bin/R CMD INSTALL ENmix StartedAt: 2025-02-12 15:43:47 -0500 (Wed, 12 Feb 2025) EndedAt: 2025-02-12 15:44:57 -0500 (Wed, 12 Feb 2025) EllapsedTime: 69.3 seconds RetCode: 0 Status: OK