Package: ENmix Version: 1.43.2 Command: /home/biocbuild/bbs-3.21-bioc/R/bin/R CMD check --install=check:ENmix.install-out.txt --library=/home/biocbuild/bbs-3.21-bioc/R/site-library --timings ENmix_1.43.2.tar.gz StartedAt: 2025-02-12 22:01:17 -0500 (Wed, 12 Feb 2025) EndedAt: 2025-02-12 22:06:52 -0500 (Wed, 12 Feb 2025) EllapsedTime: 334.4 seconds RetCode: 0 Status: OK CheckDir: ENmix.Rcheck Warnings: 0