Package: ENmix Version: 1.43.2 Command: /home/biocbuild/bbs-3.21-bioc/R/bin/R CMD INSTALL ENmix StartedAt: 2025-02-12 15:42:23 -0500 (Wed, 12 Feb 2025) EndedAt: 2025-02-12 15:43:15 -0500 (Wed, 12 Feb 2025) EllapsedTime: 51.7 seconds RetCode: 0 Status: OK