Package: ERSSA Version: 1.25.0 Command: /Library/Frameworks/R.framework/Resources/bin/R CMD check --install=check:ERSSA.install-out.txt --library=/Library/Frameworks/R.framework/Resources/library --no-vignettes --timings ERSSA_1.25.0.tar.gz StartedAt: 2025-02-09 19:09:25 -0500 (Sun, 09 Feb 2025) EndedAt: 2025-02-09 19:10:58 -0500 (Sun, 09 Feb 2025) EllapsedTime: 93.1 seconds RetCode: 0 Status: OK CheckDir: ERSSA.Rcheck Warnings: 0