Package: ERSSA Version: 1.25.0 Command: /Library/Frameworks/R.framework/Resources/bin/R CMD INSTALL ERSSA StartedAt: 2025-02-09 15:12:35 -0500 (Sun, 09 Feb 2025) EndedAt: 2025-02-09 15:12:45 -0500 (Sun, 09 Feb 2025) EllapsedTime: 10.8 seconds RetCode: 0 Status: OK