Package: ERSSA Version: 1.25.0 Command: /home/biocbuild/R/R/bin/R CMD build --keep-empty-dirs --no-resave-data ERSSA StartedAt: 2025-01-28 22:48:26 -0000 (Tue, 28 Jan 2025) EndedAt: 2025-01-28 22:49:34 -0000 (Tue, 28 Jan 2025) EllapsedTime: 68.0 seconds RetCode: 0 Status: OK PackageFile: ERSSA_1.25.0.tar.gz PackageFileSize: 2.742 MiB