Package: ERSSA Version: 1.25.0 Command: /home/biocbuild/R/R/bin/R CMD INSTALL ERSSA StartedAt: 2025-01-29 19:59:49 -0000 (Wed, 29 Jan 2025) EndedAt: 2025-01-29 20:00:25 -0000 (Wed, 29 Jan 2025) EllapsedTime: 35.8 seconds RetCode: 0 Status: OK